BEGIN:VCALENDAR
VERSION:2.0
PRODID:-//Adelaide Central Market: Home to over 70 traders under one roof - ECPv6.7.0//NONSGML v1.0//EN
CALSCALE:GREGORIAN
METHOD:PUBLISH
X-WR-CALNAME:Adelaide Central Market: Home to over 70 traders under one roof
X-ORIGINAL-URL:https://adelaidecentralmarket.com.au
X-WR-CALDESC:Events for Adelaide Central Market: Home to over 70 traders under one roof
REFRESH-INTERVAL;VALUE=DURATION:PT1H
X-Robots-Tag:noindex
X-PUBLISHED-TTL:PT1H
BEGIN:VTIMEZONE
TZID:UTC
BEGIN:STANDARD
TZOFFSETFROM:+0000
TZOFFSETTO:+0000
TZNAME:UTC
DTSTART:20190101T000000
END:STANDARD
END:VTIMEZONE
BEGIN:VEVENT
DTSTART;TZID=UTC:20190202T090000
DTEND;TZID=UTC:20190202T133000
DTSTAMP:20260425T033203
CREATED:20190110T233120Z
LAST-MODIFIED:20200901T055419Z
UID:5860-1549098000-1549114200@adelaidecentralmarket.com.au
SUMMARY:Our Market turns 150 years! Let's celebrate...
DESCRIPTION:WHEN\n            February 2\, 2019 – February 2\, 2019\n        \n\n        \n            TIME\n            9:00 am – 1:30 pm\n        \n\n        \n            WHERE\n            Adelaide Central Market\n        \n\n        \n            \n            \n        \n\n        \n            \n                \n                    Add To Calendar\n                \n            \n        \n\n\n			\n				\n				\n				\n				\n				On Saturday 23 January 1869 at 3.15am a group of Market gardeners\, unhappy with trading conditions at the East End\, paraded through city streets to the site between Gouger and Grote Street to sell their produce.  Over 500 customers attended and all stock was sold out by 6am. \nAnd the rest\, as they say is history… \nHelp us celebrate 150 years of stories\, people and recipes at our birthday party on Saturday 2 February 2019!  There will be free family activities including a cooking demonstration\, live music\, face painting and cupcake decorating.  You can also purchase a copy of our new book Adelaide Central Market: Stories\, People & Recipes and get it signed by authors Katie Spain and Fiona Roberts. \nAnd it’s a birthday\, so there will be cake and presents!  5 lucky Market customers will be given the opportunity to win Market vouchers and prizes in our cash grabber! Simply sign up as a Market Lover your chance to grab!  Our giant birthday cake will be served at 10am for a gold coin donation with proceeds going to OzHarvest. \nIt’s going to be a fun-filled day celebrating our 150 years\, and it’s our chance to thank our loyal Market community.  Bring your friends. Bring your family. See you at the Market Birthday Party! \nClick here for the full program!\n			\n				\n				\n				\n				\n				SHARE202SHARESTweetShare
URL:https://adelaidecentralmarket.com.au/event/market-turns-150-years-lets-celebrate/
LOCATION:Adelaide Central Market\, Gouger St\, Adelaide\, South Australia\, 5000\, Australia
ATTACH;FMTTYPE=image/jpeg:https://adelaidecentralmarket.com.au/site/wp-content/uploads/2018/03/Market-1956.jpg
GEO:-34.930433;138.5940151
X-APPLE-STRUCTURED-LOCATION;VALUE=URI;X-ADDRESS=Adelaide Central Market Gouger St Adelaide South Australia 5000 Australia;X-APPLE-RADIUS=500;X-TITLE=Gouger St:geo:138.5940151,-34.930433
END:VEVENT
END:VCALENDAR