BEGIN:VCALENDAR
VERSION:2.0
PRODID:-//Adelaide Central Market: Home to over 70 traders under one roof - ECPv6.7.0//NONSGML v1.0//EN
CALSCALE:GREGORIAN
METHOD:PUBLISH
X-WR-CALNAME:Adelaide Central Market: Home to over 70 traders under one roof
X-ORIGINAL-URL:https://adelaidecentralmarket.com.au
X-WR-CALDESC:Events for Adelaide Central Market: Home to over 70 traders under one roof
REFRESH-INTERVAL;VALUE=DURATION:PT1H
X-Robots-Tag:noindex
X-PUBLISHED-TTL:PT1H
BEGIN:VTIMEZONE
TZID:UTC
BEGIN:STANDARD
TZOFFSETFROM:+0000
TZOFFSETTO:+0000
TZNAME:UTC
DTSTART:20190101T000000
END:STANDARD
END:VTIMEZONE
BEGIN:VEVENT
DTSTART;TZID=UTC:20191001T090000
DTEND;TZID=UTC:20191001T130000
DTSTAMP:20260425T033231
CREATED:20190219T022608Z
LAST-MODIFIED:20190924T025829Z
UID:6093-1569920400-1569934800@adelaidecentralmarket.com.au
SUMMARY:Big Market Adventures for Little Foodies
DESCRIPTION:Big Market Adventures for Little Foodies\n			\n			\n				\n				\n				\n				\n				\n			\n				\n				\n				\n				\n			\n				\n				\n			\n				\n				\n				\n				\n				\n				\n				\n				\n				\n				\n				\n				\n				\n				\n				\n				\n				\n				\n			\n			\n				\n				\n				\n				\n				\n				\n				\n				\n				\n				\n			\n				\n				\n				\n				\n				Big Market Adventures for Little Foodies is back at the Market these school holidays!  All activities are free or low cost and include the ever popular Market Trail at just $9\, Little Market Chefs at just $18\, plus FREE art and eco crayon workshops. \nLittle Market Chefs (6-12 Yrs)\n$18 per child (bookings essential) or $20 on the day\nTuesday 1 October\, 10:00AM\, 11:30AM\, 1:00PM\nThursday 3 October\, 10:00AM\, 11:30AM\, 1:00PM\nTuesday 8 October 10:00AM\, 11:30AM\, 1:00PM\nThursday 10 October 10:00AM\, 11:30AM\, 1:00PM \nLittle Market Chefs is back these school holidays! Here at the Adelaide Central Market we are passionate about starting from ground level and teaching the next generation how to prepare healthy\, easy and tasty meals together with nutritional advice. Why? Because good health starts in the kitchen! All of the produce will be fresh from our stalls and the team from Sprout will ensure the classes are not only fun and interactive but have an educational focus too. Each class will include a small take away meal of the dish they prepare. \nPlease arrive 5 minutes prior to the class\, located in Gouger St Dining area (next to Zuma Caffe).\nBook here. \nMarket Trail (all ages)\n$9 per child (bookings recommended) or $10 on the day\nTuesday 1 October\, 9AM - 1PM\nThursday 3 October\, 9AM - 1PM\nFriday 4 October\, 9AM - 1PM\nTuesday 8 October\, 9AM - 1PM\nThursday 10 October\, 9AM - 1PM\nFriday 11 October\, 9AM - 1PM \nThe Market Trail is back due to popular demand!  The trail has been specially formulated for little foodies to learn more about the local and imported produce that the market has on offer.  Each little foodie will receive a market bag and map and visit each of the ten pit-stops to receive a sample item at each stop. The sample items range from cheese\, yoghurt\, a piece of seasonal fruit and sweet treat.  You can’t beat the Market trail for value and fun these school holidays! \nIt is recommended that you book your place in advance as tickets are limited\, however (when available) bookings will be accepted on the day\, just head to the Market Trail desk in the Gouger St dining area.  Please note some sample items may contain nuts and it is the parent or carer’s responsibility to check all items offered by stalls.\nBook here. \nFree Eco Crayon Workshop (4+ years)\nThursday 3 October - 9:30AM - 12:30PM\nGrote Street dining area\n*bookings not required \nFree seedling planting workshop (4+ years)\nFriday 4 October - 9:30AM - 12:00PM\nGrote Street dining area\n*bookings not required \nFree Market bag decorating workshop (4+ years)\nFriday 11 October -  9:30AM - 12:00PM\nGrote Street dining area\n*bookings not required \n			\n				\n				\n				\n				\n				SHARE0SHARESTweetShare
URL:https://adelaidecentralmarket.com.au/event/big-market-adventures-little-foodies-2/2019-10-01/
LOCATION:Adelaide Central Market\, Gouger St\, Adelaide\, South Australia\, 5000\, Australia
ATTACH;FMTTYPE=image/jpeg:https://adelaidecentralmarket.com.au/site/wp-content/uploads/2018/04/OliverIsla-for-web.jpg
GEO:-34.930433;138.5940151
X-APPLE-STRUCTURED-LOCATION;VALUE=URI;X-ADDRESS=Adelaide Central Market Gouger St Adelaide South Australia 5000 Australia;X-APPLE-RADIUS=500;X-TITLE=Gouger St:geo:138.5940151,-34.930433
END:VEVENT
END:VCALENDAR